BEGIN:VCALENDAR
VERSION:2.0
PRODID:-//CANVAS - Ecole d&#039;arts graphiques et de mode - ECPv6.15.20//NONSGML v1.0//EN
CALSCALE:GREGORIAN
METHOD:PUBLISH
X-ORIGINAL-URL:https://canvas.dijitalevre.com
X-WR-CALDESC:Events for CANVAS - Ecole d&#039;arts graphiques et de mode
REFRESH-INTERVAL;VALUE=DURATION:PT1H
X-Robots-Tag:noindex
X-PUBLISHED-TTL:PT1H
BEGIN:VTIMEZONE
TZID:Europe/Istanbul
BEGIN:STANDARD
TZOFFSETFROM:+0300
TZOFFSETTO:+0300
TZNAME:+03
DTSTART:20190101T000000
END:STANDARD
END:VTIMEZONE
BEGIN:VEVENT
DTSTART;TZID=Europe/Istanbul:20200516T190000
DTEND;TZID=Europe/Istanbul:20200516T230000
DTSTAMP:20260425T031753
CREATED:20260212T123147Z
LAST-MODIFIED:20260212T123204Z
UID:885-1589655600-1589670000@canvas.dijitalevre.com
SUMMARY:DEFILE – SPECTACLE CANVAS
DESCRIPTION:Une alliance artistique qui entremêle les créations vestimentaires de nos élèves en stylisme et les travaux de nos graphistes. Le spectacle sera constitué de jeux de lumières et autres performances artistiques\, le tout accompagné de musique en live !
URL:https://canvas.dijitalevre.com/event/defile-spectacle-canvas/
LOCATION:Lozan\, Lozan\, Av. de Sévelin 15\, 1004 Lozan\, İsviçre\, Lozan\, Switzerland
ATTACH;FMTTYPE=image/avif:https://canvas.dijitalevre.com/wp-content/uploads/2026/02/4.avif
ORGANIZER;CN="CANVAS L'ECOLE ART ET MODE":MAILTO:info@canvas.ch
END:VEVENT
END:VCALENDAR