BEGIN:VCALENDAR
VERSION:2.0
PRODID:-//CANVAS - Ecole d&#039;arts graphiques et de mode - ECPv6.15.20//NONSGML v1.0//EN
CALSCALE:GREGORIAN
METHOD:PUBLISH
X-ORIGINAL-URL:https://canvas.dijitalevre.com
X-WR-CALDESC:Events for CANVAS - Ecole d&#039;arts graphiques et de mode
REFRESH-INTERVAL;VALUE=DURATION:PT1H
X-Robots-Tag:noindex
X-PUBLISHED-TTL:PT1H
BEGIN:VTIMEZONE
TZID:Europe/Istanbul
BEGIN:STANDARD
TZOFFSETFROM:+0300
TZOFFSETTO:+0300
TZNAME:+03
DTSTART:20190101T000000
END:STANDARD
END:VTIMEZONE
BEGIN:VEVENT
DTSTART;TZID=Europe/Istanbul:20200219T190000
DTEND;TZID=Europe/Istanbul:20200219T230000
DTSTAMP:20260425T055832
CREATED:20260212T123521Z
LAST-MODIFIED:20260212T123521Z
UID:889-1582138800-1582153200@canvas.dijitalevre.com
SUMMARY:INSCRIPTION 2020 - PORTES OUVERTES
DESCRIPTION:Les étudiants CANVAS vous offriront un aperçu de leurs travaux et les enseignants vous renseigneront sur nos formations. \nMercredi 19 février 2020 au Salon du Casino de Montbenon de 14h À 18h \nLausanne\, Allée Ernest-Ansermet 3
URL:https://canvas.dijitalevre.com/event/inscription-2020-portes-ouvertes/
LOCATION:Lozan\, Lozan\, Av. de Sévelin 15\, 1004 Lozan\, İsviçre\, Lozan\, Switzerland
ATTACH;FMTTYPE=image/avif:https://canvas.dijitalevre.com/wp-content/uploads/2026/02/2b4c0f_09f1c6bef106434cb1aeada584464cf9mv2.avif
ORGANIZER;CN="CANVAS L'ECOLE ART ET MODE":MAILTO:info@canvas.ch
END:VEVENT
END:VCALENDAR