BEGIN:VCALENDAR
VERSION:2.0
PRODID:-//CANVAS - Ecole d&#039;arts graphiques et de mode - ECPv6.15.20//NONSGML v1.0//EN
CALSCALE:GREGORIAN
METHOD:PUBLISH
X-ORIGINAL-URL:https://canvas.dijitalevre.com
X-WR-CALDESC:Events for CANVAS - Ecole d&#039;arts graphiques et de mode
REFRESH-INTERVAL;VALUE=DURATION:PT1H
X-Robots-Tag:noindex
X-PUBLISHED-TTL:PT1H
BEGIN:VTIMEZONE
TZID:Europe/Istanbul
BEGIN:STANDARD
TZOFFSETFROM:+0300
TZOFFSETTO:+0300
TZNAME:+03
DTSTART:20200101T000000
END:STANDARD
END:VTIMEZONE
BEGIN:VEVENT
DTSTART;TZID=Europe/Istanbul:20211015T140000
DTEND;TZID=Europe/Istanbul:20211015T170000
DTSTAMP:20260424T000210
CREATED:20260212T122659Z
LAST-MODIFIED:20260212T122659Z
UID:881-1634306400-1634317200@canvas.dijitalevre.com
SUMMARY:LE JEU DE L’OIE « VOY-ÂGE » - la BD dans tous ses états !
DESCRIPTION:L’association Design Avenue et l’école Canvas vous proposent un jeu de parcours grandeur nature où vous évoluerez aux côtés de célèbres personnages de bande dessinée illustrés par les étudiants et étudiantes en art. \nÀ propos de l’événement\nLE JEU DE L’OIE « VOY-ÂGE »\nla BD dans tous ses états ! \nL’association Design Avenue et l’école Canvas vous proposent un jeu de parcours grandeur nature où vous évoluerez aux côtés de célèbres personnages de bande dessinée illustrés par les étudiants et étudiantes en art. \nRythmé par des défis et des énigmes\, venez mettre à l’épreuve votre culture générale\, votre sens de l’observation et votre logique. \nQuoi : \nJouer à un jeu de parcours ( jeu de l’oie ) en grandeur nature \n​ \nQui : \nOuvert à tous ( les enfants doivent être accompagnés d’un adulte ) \n​ \nComment : \nInscription sur place au point d’accueil\, participation gratuite \nRelevez les défis de vos héros et héroïnes de bande dessinée favoris\, résolvez leurs défis\, surmontez vos émotions et dévorez des yeux les travaux des jeunes étudiants et étudiantes ! \nPour plus d’information sur l’événement : \npar what’s app au 078 976 02 20 ou design@canvas.ch
URL:https://canvas.dijitalevre.com/event/le-jeu-de-loie-voy-age-la-bd-dans-tous-ses-etats/
LOCATION:Lozan\, Lozan\, Av. de Sévelin 15\, 1004 Lozan\, İsviçre\, Lozan\, Switzerland
ATTACH;FMTTYPE=image/avif:https://canvas.dijitalevre.com/wp-content/uploads/2026/02/3-1.avif
ORGANIZER;CN="CANVAS L'ECOLE ART ET MODE":MAILTO:info@canvas.ch
END:VEVENT
END:VCALENDAR